BEGIN:VCALENDAR
VERSION:2.0
PRODID:-//The John Godber Centre - ECPv5.10.0//NONSGML v1.0//EN
CALSCALE:GREGORIAN
METHOD:PUBLISH
X-WR-CALNAME:The John Godber Centre
X-ORIGINAL-URL:https://www.johngodbercentre.co.uk
X-WR-CALDESC:Events for The John Godber Centre
BEGIN:VTIMEZONE
TZID:Europe/London
BEGIN:DAYLIGHT
TZOFFSETFROM:+0000
TZOFFSETTO:+0100
TZNAME:BST
DTSTART:20210328T010000
END:DAYLIGHT
BEGIN:STANDARD
TZOFFSETFROM:+0100
TZOFFSETTO:+0000
TZNAME:GMT
DTSTART:20211031T010000
END:STANDARD
END:VTIMEZONE
BEGIN:VEVENT
DTSTART;TZID=Europe/London:20210710T100000
DTEND;TZID=Europe/London:20210710T120000
DTSTAMP:20260423T044028
CREATED:20210627T205328Z
LAST-MODIFIED:20210627T205328Z
UID:3031-1625911200-1625918400@www.johngodbercentre.co.uk
SUMMARY:Baby Massage Course
DESCRIPTION:Bump to Baby Nottingham Baby Massage Course \nAn antenatal class for parents to be to come and learn the techniques of baby massage prior to babies arrival. \nMassage is used in many countries from birth to settle and soothe baby. It is said to help with wind and colic symptoms\, boost the immune\, digestive and respiratory systems. It is also a beautiful way to bond with baby through skin to skin and eye contact which release the oxytocin in both masseuse and baby. \nIt is said that massaging your baby can help with breastfeeding and mental health. \nThe course is 2 hours learning the techniques and also having a chance to meet other parents to be. \nThis course aims to teach parents to be the baby massage techniques.  Not only will you have the tools in your parenting toolbox to settle baby you will also receive a goody bag and notes to take away with you at the end of the session.
URL:https://www.johngodbercentre.co.uk/event/baby-massage-course/
LOCATION:The John Godber Centre\, Ogle Street\, Hucknall\, Nottingham\, Nottinghamshire\, NG15 7FQ\, United Kingdom
CATEGORIES:Community,Families,Training,wellbeing
ATTACH;FMTTYPE=image/jpeg:https://www.johngodbercentre.co.uk/wp-content/uploads/2021/06/Bump-to-Baby-Massage-10th-July.jpg
ORGANIZER;CN="Bump%20to%20Baby%20Nottingham":MAILTO:bumptoparent@gmail.com
END:VEVENT
END:VCALENDAR