BEGIN:VCALENDAR
VERSION:2.0
PRODID:-//The John Godber Centre - ECPv5.10.0//NONSGML v1.0//EN
CALSCALE:GREGORIAN
METHOD:PUBLISH
X-WR-CALNAME:The John Godber Centre
X-ORIGINAL-URL:https://www.johngodbercentre.co.uk
X-WR-CALDESC:Events for The John Godber Centre
BEGIN:VTIMEZONE
TZID:Europe/London
BEGIN:DAYLIGHT
TZOFFSETFROM:+0000
TZOFFSETTO:+0100
TZNAME:BST
DTSTART:20230326T010000
END:DAYLIGHT
BEGIN:STANDARD
TZOFFSETFROM:+0100
TZOFFSETTO:+0000
TZNAME:GMT
DTSTART:20231029T010000
END:STANDARD
END:VTIMEZONE
BEGIN:VEVENT
DTSTART;TZID=Europe/London:20230224T193000
DTEND;TZID=Europe/London:20230224T203000
DTSTAMP:20260424T210634
CREATED:20230115T232927Z
LAST-MODIFIED:20230115T232927Z
UID:3354-1677267000-1677270600@www.johngodbercentre.co.uk
SUMMARY:Elemental Theatre Group - Normal
DESCRIPTION:In a world where it’s okay to be gay\, with pride marches and celebrations in the LGBT community one gay actor is struggling to come to terms with how to ‘be gay’. \nCreated as a response to performed sexuality and the social debate of ‘gay parts for gay actors’\, follow the unnamed protagonist in this one-man LGBT comedy as he deals with family\, friends\, love\, sex and work. What is it like to be part of the community? How difficult is dating for a same-sex couple? Are there any restrictions at work? Can an understanding family become a barrier to being your true self? \nWritten and Performed by Tom Stevenson\, with an estimated 1 hour run time. \nFollow Elemental Theatre Groups Facebook\, Twitter and Instagram via their website to watch the rehearsal process and get the latest information.
URL:https://www.johngodbercentre.co.uk/event/elemental-theatre-group-normal/
LOCATION:The John Godber Centre\, Ogle Street\, Hucknall\, Nottingham\, Nottinghamshire\, NG15 7FQ\, United Kingdom
CATEGORIES:Theatre
ATTACH;FMTTYPE=image/png:https://www.johngodbercentre.co.uk/wp-content/uploads/2023/01/normal.png
ORGANIZER;CN="Elemental%20Theatre%20Group":MAILTO:elementaltheatrecompany@gmail.com
END:VEVENT
END:VCALENDAR