BEGIN:VCALENDAR
VERSION:2.0
PRODID:-//The John Godber Centre - ECPv5.10.0//NONSGML v1.0//EN
CALSCALE:GREGORIAN
METHOD:PUBLISH
X-WR-CALNAME:The John Godber Centre
X-ORIGINAL-URL:https://www.johngodbercentre.co.uk
X-WR-CALDESC:Events for The John Godber Centre
BEGIN:VTIMEZONE
TZID:Europe/London
BEGIN:DAYLIGHT
TZOFFSETFROM:+0000
TZOFFSETTO:+0100
TZNAME:BST
DTSTART:20230326T010000
END:DAYLIGHT
BEGIN:STANDARD
TZOFFSETFROM:+0100
TZOFFSETTO:+0000
TZNAME:GMT
DTSTART:20231029T010000
END:STANDARD
END:VTIMEZONE
BEGIN:VEVENT
DTSTART;VALUE=DATE:20230119
DTEND;VALUE=DATE:20230123
DTSTAMP:20260424T193802
CREATED:20230112T114903Z
LAST-MODIFIED:20230112T114903Z
UID:3333-1674086400-1674431999@www.johngodbercentre.co.uk
SUMMARY:Beauty and the Beast
DESCRIPTION:Join Lovelace Theatre Group for their 2023 panto – Beauty and the Beast \nIn this adaptation of the traditional tale\, Beauty and the Beast tells the story of a Prince transformed into a Beast\, and his eventual redemption through the love of a girl called Belle. \nOur panto version begins with the vain Prince George refusing the amorous advances of an older woman\, who is actually a witch. In revenge\, she turns him into a horrible beast\, and his servants into household objects. Doomed to die tormented and alone\, his only hope is if somebody falls in love with him before the last petal on an enchanted rose falls. \nThe Lovelace’s production contains everything you would expect to find in a traditional panto. A classic love story\, pathos\, comedy and of course\, a happy ending.. \nPerformances –\nThu 19th Jan at 7.30pm\nFri 20th Jan at 7.30pm\nSat 21st Jan at 2.30pm & 7.30pm\nSun 22nd Jan at 1.30pm & 5.30pm \nAdults £9.00\, concessions £8.00 \nTicket Enquires: 0115 968 1011 or info@lovelacetheatregroup.co.uk.
URL:https://www.johngodbercentre.co.uk/event/beauty-and-the-beast/
LOCATION:The John Godber Centre\, Ogle Street\, Hucknall\, Nottingham\, Nottinghamshire\, NG15 7FQ\, United Kingdom
CATEGORIES:Children,Community,Families,Pantomime,Theatre
ATTACH;FMTTYPE=image/jpeg:https://www.johngodbercentre.co.uk/wp-content/uploads/2023/01/beauty.jpg
ORGANIZER;CN="Lovelace%20Theatre%20Group":MAILTO:president@lovelacetheatregroup.co.uk
END:VEVENT
END:VCALENDAR