BEGIN:VCALENDAR
VERSION:2.0
PRODID:-//The John Godber Centre - ECPv5.10.0//NONSGML v1.0//EN
CALSCALE:GREGORIAN
METHOD:PUBLISH
X-WR-CALNAME:The John Godber Centre
X-ORIGINAL-URL:https://www.johngodbercentre.co.uk
X-WR-CALDESC:Events for The John Godber Centre
BEGIN:VTIMEZONE
TZID:Europe/London
BEGIN:DAYLIGHT
TZOFFSETFROM:+0000
TZOFFSETTO:+0100
TZNAME:BST
DTSTART:20220327T010000
END:DAYLIGHT
BEGIN:STANDARD
TZOFFSETFROM:+0100
TZOFFSETTO:+0000
TZNAME:GMT
DTSTART:20221030T010000
END:STANDARD
END:VTIMEZONE
BEGIN:VEVENT
DTSTART;VALUE=DATE:20221020
DTEND;VALUE=DATE:20221023
DTSTAMP:20260424T144419
CREATED:20220712T112859Z
LAST-MODIFIED:20221017T115214Z
UID:3246-1666224000-1666483199@www.johngodbercentre.co.uk
SUMMARY:Wyrd Sisters - Lovelace Theatre Group October Production
DESCRIPTION:The Lovelace Theatre Group present Terry Pratchetts Wyrd Sisters   \nPerformances on the 20th\, 21st and 22nd October 2022
URL:https://www.johngodbercentre.co.uk/event/wyrd-sisters-lovelace-theatre-group-october-production/
LOCATION:The John Godber Centre\, Ogle Street\, Hucknall\, Nottingham\, Nottinghamshire\, NG15 7FQ\, United Kingdom
CATEGORIES:Community,Theatre
ATTACH;FMTTYPE=image/jpeg:https://www.johngodbercentre.co.uk/wp-content/uploads/2022/07/Wyrd-Sisters.jpg
ORGANIZER;CN="Lovelace%20Theatre%20Group":MAILTO:president@lovelacetheatregroup.co.uk
END:VEVENT
END:VCALENDAR