BEGIN:VCALENDAR
VERSION:2.0
PRODID:-//The John Godber Centre - ECPv5.10.0//NONSGML v1.0//EN
CALSCALE:GREGORIAN
METHOD:PUBLISH
X-WR-CALNAME:The John Godber Centre
X-ORIGINAL-URL:https://www.johngodbercentre.co.uk
X-WR-CALDESC:Events for The John Godber Centre
BEGIN:VTIMEZONE
TZID:Europe/London
BEGIN:DAYLIGHT
TZOFFSETFROM:+0000
TZOFFSETTO:+0100
TZNAME:BST
DTSTART:20190331T010000
END:DAYLIGHT
BEGIN:STANDARD
TZOFFSETFROM:+0100
TZOFFSETTO:+0000
TZNAME:GMT
DTSTART:20191027T010000
END:STANDARD
END:VTIMEZONE
BEGIN:VEVENT
DTSTART;TZID=Europe/London:20190630T133000
DTEND;TZID=Europe/London:20190630T153000
DTSTAMP:20260425T134837
CREATED:20190621T094834Z
LAST-MODIFIED:20190621T095016Z
UID:2527-1561901400-1561908600@www.johngodbercentre.co.uk
SUMMARY:Lovelace Theatre - Junior Group Graduation Show 2019
DESCRIPTION:Everyone is welcome to the Lovelace Theatre Group’s Annual Fundraiser and Junior Group Graduation Show 2019. \nThere will be lots of stalls and refreshments available and it’s just £1 entry – come along and have fun! \nShow starts at 1:30pm.
URL:https://www.johngodbercentre.co.uk/event/lovelace-theatre-junior-group-graduation-show-2019/
LOCATION:The John Godber Centre\, Ogle Street\, Hucknall\, Nottingham\, Nottinghamshire\, NG15 7FQ\, United Kingdom
CATEGORIES:Celebration,Children,Community,Theatre
ATTACH;FMTTYPE=image/jpeg:https://www.johngodbercentre.co.uk/wp-content/uploads/2019/06/junir_960px.jpg
ORGANIZER;CN="Lovelace%20Theatre%20Group":MAILTO:president@lovelacetheatregroup.co.uk
END:VEVENT
END:VCALENDAR