BEGIN:VCALENDAR
VERSION:2.0
PRODID:-//The John Godber Centre - ECPv5.10.0//NONSGML v1.0//EN
CALSCALE:GREGORIAN
METHOD:PUBLISH
X-WR-CALNAME:The John Godber Centre
X-ORIGINAL-URL:https://www.johngodbercentre.co.uk
X-WR-CALDESC:Events for The John Godber Centre
BEGIN:VTIMEZONE
TZID:Europe/London
BEGIN:DAYLIGHT
TZOFFSETFROM:+0000
TZOFFSETTO:+0100
TZNAME:BST
DTSTART:20190331T010000
END:DAYLIGHT
BEGIN:STANDARD
TZOFFSETFROM:+0100
TZOFFSETTO:+0000
TZNAME:GMT
DTSTART:20191027T010000
END:STANDARD
END:VTIMEZONE
BEGIN:VEVENT
DTSTART;TZID=Europe/London:20190516T193000
DTEND;TZID=Europe/London:20190516T213000
DTSTAMP:20260425T151256
CREATED:20190325T164300Z
LAST-MODIFIED:20190325T165203Z
UID:2488-1558035000-1558042200@www.johngodbercentre.co.uk
SUMMARY:101 Dalmations show 1
DESCRIPTION:MORE DETAILS TO FOLLOW \n“What absolutely beautiful dogs. Wouldn’t they make enchanting fur coats?” \nIn this adaption of the classic novel\, fur obsessed fashionista Cruella de Vil sets her sights on Pongo and Missis’ newborn litter of puppies with one aim – a Dalmatian skin coat.  \nJoin Pongo and Missis and their friends as they set on out a rescue mission to save the puppies in this adventure for all ages.  \nThe Hundred and One Dalmatians\nby Dodie Smith. Adapted by Glyn Robbins \nThis amateur production of “The Hundred and One Dalmatians” is presented by special\narrangement with SAMUEL FRENCH LTD. \nMORE DETAILS TO FOLLOW
URL:https://www.johngodbercentre.co.uk/event/101-dalmations-show-1/
LOCATION:The John Godber Centre\, Ogle Street\, Hucknall\, Nottingham\, Nottinghamshire\, NG15 7FQ\, United Kingdom
CATEGORIES:Community,Families,Theatre
ATTACH;FMTTYPE=image/jpeg:https://www.johngodbercentre.co.uk/wp-content/uploads/2019/03/101_dalmations_lovelace.jpg
ORGANIZER;CN="Kim%20Pears":MAILTO:manager@johngodbercentre.co.uk
END:VEVENT
END:VCALENDAR