BEGIN:VCALENDAR
VERSION:2.0
PRODID:-//The John Godber Centre - ECPv5.10.0//NONSGML v1.0//EN
CALSCALE:GREGORIAN
METHOD:PUBLISH
X-WR-CALNAME:The John Godber Centre
X-ORIGINAL-URL:https://www.johngodbercentre.co.uk
X-WR-CALDESC:Events for The John Godber Centre
BEGIN:VTIMEZONE
TZID:Europe/London
BEGIN:DAYLIGHT
TZOFFSETFROM:+0000
TZOFFSETTO:+0100
TZNAME:BST
DTSTART:20190331T010000
END:DAYLIGHT
BEGIN:STANDARD
TZOFFSETFROM:+0100
TZOFFSETTO:+0000
TZNAME:GMT
DTSTART:20191027T010000
END:STANDARD
END:VTIMEZONE
BEGIN:VEVENT
DTSTART;TZID=Europe/London:20190405T193000
DTEND;TZID=Europe/London:20190405T213000
DTSTAMP:20260425T163257
CREATED:20190109T122052Z
LAST-MODIFIED:20190109T122052Z
UID:2408-1554492600-1554499800@www.johngodbercentre.co.uk
SUMMARY:Murder at Redrum Manor show 1
DESCRIPTION:Elemental Theatre Company are performing their very first original piece of theatre ‘Murder At Redrum Manor’. This original piece is a murder mystery in the style of Agatha Christie\, set in 1920’s England.  \nThe Story follow the trials of Lord and Lady Whitefeather after someone at Redrum Manor is murdered in cold blood. With the doors locked Detective Inspector Godber uses his cunning\, wit and a string of confessions to find the heartless culprit. \nDoors open at 7pm for a 7:30pm start. \nSee the SEATY link to buy tickets.
URL:https://www.johngodbercentre.co.uk/event/murder-at-redrum-manor-show-1/
LOCATION:The John Godber Centre\, Ogle Street\, Hucknall\, Nottingham\, Nottinghamshire\, NG15 7FQ\, United Kingdom
CATEGORIES:Community,Theatre
ATTACH;FMTTYPE=image/jpeg:https://www.johngodbercentre.co.uk/wp-content/uploads/2019/01/etc_murder_redrum_manor_header.jpg
ORGANIZER;CN="Kim%20Pears":MAILTO:manager@johngodbercentre.co.uk
END:VEVENT
END:VCALENDAR