BEGIN:VCALENDAR
VERSION:2.0
PRODID:-//The John Godber Centre - ECPv5.10.0//NONSGML v1.0//EN
CALSCALE:GREGORIAN
METHOD:PUBLISH
X-WR-CALNAME:The John Godber Centre
X-ORIGINAL-URL:https://www.johngodbercentre.co.uk
X-WR-CALDESC:Events for The John Godber Centre
BEGIN:VTIMEZONE
TZID:Europe/London
BEGIN:DAYLIGHT
TZOFFSETFROM:+0000
TZOFFSETTO:+0100
TZNAME:BST
DTSTART:20250330T010000
END:DAYLIGHT
BEGIN:STANDARD
TZOFFSETFROM:+0100
TZOFFSETTO:+0000
TZNAME:GMT
DTSTART:20251026T010000
END:STANDARD
END:VTIMEZONE
BEGIN:VEVENT
DTSTART;TZID=Europe/London:20251206T183000
DTEND;TZID=Europe/London:20251206T230000
DTSTAMP:20260422T060619
CREATED:20251111T232528Z
LAST-MODIFIED:20251117T165822Z
UID:3907-1765045800-1765062000@www.johngodbercentre.co.uk
SUMMARY:Glamour Talks Festive Party Night December 2025
DESCRIPTION:Join us for an evening of fun\, frolics and endless laughter at the John Godber Centre\, with a festive twist! \nTickets are on sale from the John Godber Centre on 0115 963 9633 or by email to reception@johngodbercentre.co.uk now  \nAn amazing night\, doors open at 6:30pm and the show starts at 8:00pm. \n🎉 Get ready for a FABULOUS festive night out! 🎉\nWe’re thrilled to announce that the sensational Clark Burton is returning to the John Godber Centre on Saturday 6th December with a brand new\, glittering cabaret extravaganza – GLAMOUR TALKS! 💄✨\nThis dazzling new show combines the best of two powerhouse performances – The Glamour Girls and Talk of the Town – into one unmissable night of sequins\, sass\, and show-stopping performances! 💃💋\nThey’ve been lighting up their stage all summer long in Turkey\, and now they’re bringing the sparkle to the UK for their Winter Tour – and we can’t wait to see what magic they’ll bring to our stage! 🎤🌟\nIf you’ve visited us before (and if you’re on this mailing list\, you have!)\, then you already know Clark’s shows are not to be missed – and Glamour Talks promises to be the biggest\, boldest\, and most fabulous one yet! \n🎟️ Tickets are just £12.50 – a steal for a night of top-tier entertainment\, cabaret\, and festive fun! \n🍷 Doors and bar open from 6:30pm – come early\, grab a drink\, and get ready for a glamorous night out! \n🎭 Show starts at 8:00pm sharp! \nSpaces are filling up so if you’d like to reserve your tickets and join us for a festive night of fun let us know.\nIt’s time to sparkle\, strut\, and celebrate! 💃🎉💅
URL:https://www.johngodbercentre.co.uk/event/glamour-talks-festive-party-night-december-2025/
LOCATION:The John Godber Centre\, Ogle Street\, Hucknall\, Nottingham\, Nottinghamshire\, NG15 7FQ\, United Kingdom
CATEGORIES:Celebration,Christmas,Live entertainment,Party
ATTACH;FMTTYPE=image/png:https://www.johngodbercentre.co.uk/wp-content/uploads/2025/11/Glamour-2025-f.png
ORGANIZER;CN="John%20Godber%20Centre":MAILTO:reception@johngodbercentre.co.uk
END:VEVENT
END:VCALENDAR