BEGIN:VCALENDAR
VERSION:2.0
PRODID:-//The John Godber Centre - ECPv5.10.0//NONSGML v1.0//EN
CALSCALE:GREGORIAN
METHOD:PUBLISH
X-WR-CALNAME:The John Godber Centre
X-ORIGINAL-URL:https://www.johngodbercentre.co.uk
X-WR-CALDESC:Events for The John Godber Centre
BEGIN:VTIMEZONE
TZID:Europe/London
BEGIN:DAYLIGHT
TZOFFSETFROM:+0000
TZOFFSETTO:+0100
TZNAME:BST
DTSTART:20250330T010000
END:DAYLIGHT
BEGIN:STANDARD
TZOFFSETFROM:+0100
TZOFFSETTO:+0000
TZNAME:GMT
DTSTART:20251026T010000
END:STANDARD
END:VTIMEZONE
BEGIN:VEVENT
DTSTART;TZID=Europe/London:20250907T110000
DTEND;TZID=Europe/London:20250907T140000
DTSTAMP:20260422T092630
CREATED:20250315T121559Z
LAST-MODIFIED:20250713T205719Z
UID:3814-1757242800-1757253600@www.johngodbercentre.co.uk
SUMMARY:Community Craft Fair - September
DESCRIPTION:Come join us for our September Community Craft Fair \nThese new regular events are a lovely crafternoon for the whole community to enjoy welcoming craft stalls along with community and charity stalls and a warm and friendly welcome each time to our community venue in Hucknall.  \nThere will be a cakes and refreshments area to raise funds for our registered charities and a children’s activity corner for younger visitors.  Our hope is to provide a place to meet and catchup in the local area and shop some wonderful creatives and sip.  \nWe welcome new stall holders selling crafts\, gifts\, books and beauty as well as regular stall holders who have stood with us in the past at our festive and seasonal events.  \nThe John Godber Centre and its churches are part of registered charity (charity number 1132272) and stall hire as well as funds raised on the day contribute to our activities and refurbishments. \nWe’re pleased to share Your Time Believe Belong Become CIC will be joining us raising funds for their group that is based in the John Godber Centre\, registered CIC number 13577843.\nThe lovely Your Time team and their wonderful volunteers will be selling refreshments and cakes during the event and also have a tombola and children’s lucky dip.\nThe group meets here on a Friday and encourages people to come together weekly and also arranges outings and activities creating positive experiences and working on mindsets. The group works on wellbeing\, mindset and body confidence and arranges members to come together and spend some time away from the normal hustle and bustle of life\, finding time for ourselves “your time”  \nThose interested in booking a stall at the events please contact us on 0115 963 9633 or by email reception@johngodbercentre.co.uk. Septembers event is now sold out but we do have space for our October event on the 5th October.  \n \nSo many events\, one great venue 💜
URL:https://www.johngodbercentre.co.uk/event/community-craft-fair-september-2/
LOCATION:The John Godber Centre\, Ogle Street\, Hucknall\, Nottingham\, Nottinghamshire\, NG15 7FQ\, United Kingdom
CATEGORIES:Community,Craft,Families,Fundraising
ATTACH;FMTTYPE=image/png:https://www.johngodbercentre.co.uk/wp-content/uploads/2025/03/Craft-Fair-7-9-25.png
ORGANIZER;CN="John%20Godber%20Centre":MAILTO:reception@johngodbercentre.co.uk
END:VEVENT
END:VCALENDAR