BEGIN:VCALENDAR
VERSION:2.0
PRODID:-//The John Godber Centre - ECPv5.10.0//NONSGML v1.0//EN
CALSCALE:GREGORIAN
METHOD:PUBLISH
X-WR-CALNAME:The John Godber Centre
X-ORIGINAL-URL:https://www.johngodbercentre.co.uk
X-WR-CALDESC:Events for The John Godber Centre
BEGIN:VTIMEZONE
TZID:Europe/London
BEGIN:DAYLIGHT
TZOFFSETFROM:+0000
TZOFFSETTO:+0100
TZNAME:BST
DTSTART:20250330T010000
END:DAYLIGHT
BEGIN:STANDARD
TZOFFSETFROM:+0100
TZOFFSETTO:+0000
TZNAME:GMT
DTSTART:20251026T010000
END:STANDARD
END:VTIMEZONE
BEGIN:VEVENT
DTSTART;TZID=Europe/London:20250406T110000
DTEND;TZID=Europe/London:20250406T140000
DTSTAMP:20260422T174941
CREATED:20250315T120859Z
LAST-MODIFIED:20250403T123417Z
UID:3799-1743937200-1743948000@www.johngodbercentre.co.uk
SUMMARY:PLEASE NOTE OUR COMMUNITY CRAFT FAIR ON THE 6th APRIL WILL SADLY NOT BE GOING AHEAD
DESCRIPTION:Sadly our event on the 6th April will not be going ahead.\nOur next event will be the 1st June and we hope to see you then.
URL:https://www.johngodbercentre.co.uk/event/community-craft-fair-april/
LOCATION:The John Godber Centre\, Ogle Street\, Hucknall\, Nottingham\, Nottinghamshire\, NG15 7FQ\, United Kingdom
CATEGORIES:Community,Craft
ORGANIZER;CN="John%20Godber%20Centre":MAILTO:reception@johngodbercentre.co.uk
END:VEVENT
END:VCALENDAR