BEGIN:VCALENDAR
VERSION:2.0
PRODID:-//The John Godber Centre - ECPv5.10.0//NONSGML v1.0//EN
CALSCALE:GREGORIAN
METHOD:PUBLISH
X-WR-CALNAME:The John Godber Centre
X-ORIGINAL-URL:https://www.johngodbercentre.co.uk
X-WR-CALDESC:Events for The John Godber Centre
BEGIN:VTIMEZONE
TZID:Europe/London
BEGIN:DAYLIGHT
TZOFFSETFROM:+0000
TZOFFSETTO:+0100
TZNAME:BST
DTSTART:20220327T010000
END:DAYLIGHT
BEGIN:STANDARD
TZOFFSETFROM:+0100
TZOFFSETTO:+0000
TZNAME:GMT
DTSTART:20221030T010000
END:STANDARD
END:VTIMEZONE
BEGIN:VEVENT
DTSTART;TZID=Europe/London:20221130T160000
DTEND;TZID=Europe/London:20221130T200000
DTSTAMP:20260425T012526
CREATED:20220712T113848Z
LAST-MODIFIED:20220712T113848Z
UID:3249-1669824000-1669838400@www.johngodbercentre.co.uk
SUMMARY:Indoor Christmas Market 2022
DESCRIPTION:Come along to our fantastic indoor Christmas Market 2022! \nThere’ll be plenty of stalls for all your Christmas needs\, including: Tombola\, Cakes\, Beauty\, Jewellery\, Gifts\, Books\, Cards\, Crafts\, and much\, much more! \nWe’ve a bar\, hot refreshments and real ale! \nPart of the Hucknall Christmas Light Switch on (note this event will take place at the end of November for 2022 instead of the usual first Wednesday of December) \nTo book a stall contact Kim our Centre Manager via email reception@johngodbercentre.co.uk
URL:https://www.johngodbercentre.co.uk/event/indoor-christmas-market-2022/
LOCATION:The John Godber Centre\, Ogle Street\, Hucknall\, Nottingham\, Nottinghamshire\, NG15 7FQ\, United Kingdom
CATEGORIES:Christmas,Community,Craft,Food and Drink,Market,Shopping
ATTACH;FMTTYPE=image/jpeg:https://www.johngodbercentre.co.uk/wp-content/uploads/2022/07/Christmas-Market-30th-November-2022.jpg
ORGANIZER;CN="John%20Godber%20Centre":MAILTO:reception@johngodbercentre.co.uk
END:VEVENT
END:VCALENDAR