BEGIN:VCALENDAR
VERSION:2.0
PRODID:-//The John Godber Centre - ECPv5.10.0//NONSGML v1.0//EN
CALSCALE:GREGORIAN
METHOD:PUBLISH
X-WR-CALNAME:The John Godber Centre
X-ORIGINAL-URL:https://www.johngodbercentre.co.uk
X-WR-CALDESC:Events for The John Godber Centre
BEGIN:VTIMEZONE
TZID:Europe/London
BEGIN:DAYLIGHT
TZOFFSETFROM:+0000
TZOFFSETTO:+0100
TZNAME:BST
DTSTART:20220327T010000
END:DAYLIGHT
BEGIN:STANDARD
TZOFFSETFROM:+0100
TZOFFSETTO:+0000
TZNAME:GMT
DTSTART:20221030T010000
END:STANDARD
END:VTIMEZONE
BEGIN:VEVENT
DTSTART;TZID=Europe/London:20220814T100000
DTEND;TZID=Europe/London:20220814T140000
DTSTAMP:20260424T212732
CREATED:20220712T105830Z
LAST-MODIFIED:20220712T105830Z
UID:3224-1660471200-1660485600@www.johngodbercentre.co.uk
SUMMARY:Artists\, Makers & Fine Food Market - August
DESCRIPTION:Artists\, Makers & Fine Food Markets NOTTS are coming to Hucknall!\nHolding their first Artisan Market on Sunday 14th August 2022 with FREE ENTRY and open 10am to 2pm.  \nQuality Artisan Market supporting artists and creatives from Nottinghamshire & surrounding counties. Organisers have 2 established markets in Ravenshead & Teversal and are now extending to Hucknall & Southwell in 2023 with 2 introductory markets in August and December then the 4th Sunday of the month.  \nFollow the facebook page for what’s coming and further event updates – https://www.facebook.com/Artists-Makers-Fine-Food-Markets-NOTTS-106260241819221  \nTo book a stall contact Verity on – foundintheattic22@yahoo.com
URL:https://www.johngodbercentre.co.uk/event/artists-makers-fine-food-market-august/
LOCATION:The John Godber Centre\, Ogle Street\, Hucknall\, Nottingham\, Nottinghamshire\, NG15 7FQ\, United Kingdom
CATEGORIES:Artisan,Business,Craft,Food and Drink,Market
ATTACH;FMTTYPE=image/jpeg:https://www.johngodbercentre.co.uk/wp-content/uploads/2022/07/Artist-Makers-and-Fine-Foods-Market.jpg
ORGANIZER;CN="Artists%2C%20Makers%20%26%20Fine%20Food%20Markets%20NOTTS":MAILTO:foundintheattic22@yahoo.com
END:VEVENT
END:VCALENDAR