BEGIN:VCALENDAR
VERSION:2.0
PRODID:-//The John Godber Centre - ECPv5.10.0//NONSGML v1.0//EN
CALSCALE:GREGORIAN
METHOD:PUBLISH
X-WR-CALNAME:The John Godber Centre
X-ORIGINAL-URL:https://www.johngodbercentre.co.uk
X-WR-CALDESC:Events for The John Godber Centre
BEGIN:VTIMEZONE
TZID:Europe/London
BEGIN:DAYLIGHT
TZOFFSETFROM:+0000
TZOFFSETTO:+0100
TZNAME:BST
DTSTART:20260329T010000
END:DAYLIGHT
BEGIN:STANDARD
TZOFFSETFROM:+0100
TZOFFSETTO:+0000
TZNAME:GMT
DTSTART:20261025T010000
END:STANDARD
END:VTIMEZONE
BEGIN:VEVENT
DTSTART;TZID=Europe/London:20260905T110000
DTEND;TZID=Europe/London:20260905T140000
DTSTAMP:20260422T034425
CREATED:20260329T124726Z
LAST-MODIFIED:20260329T125303Z
UID:3980-1788606000-1788616800@www.johngodbercentre.co.uk
SUMMARY:Community Craft Fair - September 2026
DESCRIPTION:Come join us for our September Community Craft Fair \nWe’re looking forward to hosting our next Community Craft Fair on Sunday 5th September\, come join us and support small businesses and creatives from the county. Shop local. Shop handmade. Shop happy.\nFundraising for our community venue in the heart of Hucknall but also HAWFD (Hucknall Against Whyburn Farm Development) The event is free to all to enter and free parking and will include:\n🏵Craft and Gift Stalls including beauty\, crafts\, wood turning\, jewellery and much more just in time for Valentines and Mothers Day gift inspiration\n🌸Cakes and Refreshments (provided by and fundraising for HAWFD)\n🏵Fun Children’s Craft Activities\n🌸A place to relax and chat with others\nWe hope you’ll call in and enjoy this community event at the John Godber Centre\, Ogle Street\, Hucknall\, NG15 7FQ and enjoy a lovely CRAFTernoon with us.  \nThese new regular events are a lovely crafternoon for the whole community to enjoy welcoming craft stalls along with community and charity stalls and a warm and friendly welcome each time to our community venue in Hucknall. \nThere will be a cakes and refreshments area to raise funds for our registered charities and a children’s activity corner for younger visitors. Our hope is to provide a place to meet and catchup in the local area and shop some wonderful creatives and sip. \nWe welcome new stall holders selling crafts\, gifts\, books and beauty as well as regular stall holders who have stood with us in the past at our festive and seasonal events. \nThe John Godber Centre and its churches are part of registered charity (charity number 1132272) and stall hire as well as funds raised on the day contribute to our activities and refurbishments. \nWe’re pleased to share HAWFD will be joining us raising funds for their groups projects.\nThe volunteers of HAWFD will be selling refreshments and cakes during the event and also have charity fundraising stalls at the event.  \nThose interested in booking a stall at the events please contact us on 0115 963 9633 or by email reception@johngodbercentre.co.uk.
URL:https://www.johngodbercentre.co.uk/event/community-craft-fair-september-2026/
LOCATION:The John Godber Centre\, Ogle Street\, Hucknall\, Nottingham\, Nottinghamshire\, NG15 7FQ\, United Kingdom
CATEGORIES:Community,Craft,Craft Fair,Fundraising,Market
ATTACH;FMTTYPE=image/png:https://www.johngodbercentre.co.uk/wp-content/uploads/2026/03/2026-Craft-Fair-Poster-05-09-26-with-HAWFD.png
ORGANIZER;CN="John%20Godber%20Centre":MAILTO:reception@johngodbercentre.co.uk
END:VEVENT
END:VCALENDAR