BEGIN:VCALENDAR
VERSION:2.0
PRODID:-//The John Godber Centre - ECPv5.10.0//NONSGML v1.0//EN
CALSCALE:GREGORIAN
METHOD:PUBLISH
X-WR-CALNAME:The John Godber Centre
X-ORIGINAL-URL:https://www.johngodbercentre.co.uk
X-WR-CALDESC:Events for The John Godber Centre
BEGIN:VTIMEZONE
TZID:Europe/London
BEGIN:DAYLIGHT
TZOFFSETFROM:+0000
TZOFFSETTO:+0100
TZNAME:BST
DTSTART:20260329T010000
END:DAYLIGHT
BEGIN:STANDARD
TZOFFSETFROM:+0100
TZOFFSETTO:+0000
TZNAME:GMT
DTSTART:20261025T010000
END:STANDARD
END:VTIMEZONE
BEGIN:VEVENT
DTSTART;TZID=Europe/London:20260328T160000
DTEND;TZID=Europe/London:20260328T200000
DTSTAMP:20260421T225725
CREATED:20260329T123958Z
LAST-MODIFIED:20260329T123958Z
UID:3974-1774713600-1774728000@www.johngodbercentre.co.uk
SUMMARY:Easter Family Party
DESCRIPTION:⭐ EASTER FAMILY PARTY ⭐ SATURDAY 28th MARCH | 4PM – 8PM⭐\nJoin us for our Hoppy Easter Eggstravaganza – packed with springtime fun\, laughter\, sweet treats and magical memories.\nJoin us for a magical evening of music\, dancing\, games and egg-cellent fun for the whole family!\nTaking the magic we create at our Elftastic and Countdown to New Year parties\, Team Purple are turning our attention to Easter and launching our very first Easter celebration!\nExpect silly games\, joyful moments\, prizes\, top tunes and a buzzing party atmosphere for kids and grown-ups alike.\nThere’ll even be a bar for the grown-ups to enjoy a tasty tipple while the little ones dance the evening away.\nBring your own picnic and settle in for a cracking good night with friends and family.\nBook your tickets today by calling 0115 963 9633 or email reception@johngodbercentre.co.uk\nSo many events\, One great venue 💜
URL:https://www.johngodbercentre.co.uk/event/easter-family-party/
LOCATION:The John Godber Centre\, Ogle Street\, Hucknall\, Nottingham\, Nottinghamshire\, NG15 7FQ\, United Kingdom
CATEGORIES:Children,Community,Easter,Families,Fundraising,Party
ATTACH;FMTTYPE=image/jpeg:https://www.johngodbercentre.co.uk/wp-content/uploads/2026/03/eggtastic-party-2026-AW-mdm-scaled.jpg
ORGANIZER;CN="John%20Godber%20Centre":MAILTO:reception@johngodbercentre.co.uk
END:VEVENT
END:VCALENDAR