BEGIN:VCALENDAR
VERSION:2.0
PRODID:-//The John Godber Centre - ECPv5.10.0//NONSGML v1.0//EN
CALSCALE:GREGORIAN
METHOD:PUBLISH
X-WR-CALNAME:The John Godber Centre
X-ORIGINAL-URL:https://www.johngodbercentre.co.uk
X-WR-CALDESC:Events for The John Godber Centre
BEGIN:VTIMEZONE
TZID:Europe/London
BEGIN:DAYLIGHT
TZOFFSETFROM:+0000
TZOFFSETTO:+0100
TZNAME:BST
DTSTART:20260329T010000
END:DAYLIGHT
BEGIN:STANDARD
TZOFFSETFROM:+0100
TZOFFSETTO:+0000
TZNAME:GMT
DTSTART:20261025T010000
END:STANDARD
END:VTIMEZONE
BEGIN:VEVENT
DTSTART;TZID=Europe/London:20260212T180000
DTEND;TZID=Europe/London:20260215T180000
DTSTAMP:20260425T051603
CREATED:20251111T232813Z
LAST-MODIFIED:20260114T113012Z
UID:3910-1770919200-1771178400@www.johngodbercentre.co.uk
SUMMARY:Hucknall Beer and Cider Festival 2026
DESCRIPTION:12th-15th February 2026 – Hucknall Beer and Cider Festival \nThe annual Hucknall Beer Festival takes place 12th-15th February 2026\, supported by Nottingham CAMRA\nThis year opening once more to the public on Thursday evening\nFollowing the amazing success of last years event we’ll be back again with a great selection of real ales and ciders. Great food\, atmosphere and live entertainment  \nSee the festival page for further updates leading up to the event – thehucknallbeerfestival.co.uk \nThe festival is a charity fundraiser for the John Godber Centre\, registered charity 1132272
URL:https://www.johngodbercentre.co.uk/event/hucknall-beer-and-cider-festival-2026/
LOCATION:The John Godber Centre\, Ogle Street\, Hucknall\, Nottingham\, Nottinghamshire\, NG15 7FQ\, United Kingdom
CATEGORIES:Community,Festival,Food and Drink,Live entertainment
ATTACH;FMTTYPE=image/jpeg:https://www.johngodbercentre.co.uk/wp-content/uploads/2026/01/HBF-Poster-2026-scaled.jpg
ORGANIZER;CN="John%20Godber%20Centre":MAILTO:reception@johngodbercentre.co.uk
END:VEVENT
END:VCALENDAR