BEGIN:VCALENDAR
VERSION:2.0
PRODID:-//The John Godber Centre - ECPv5.10.0//NONSGML v1.0//EN
CALSCALE:GREGORIAN
METHOD:PUBLISH
X-WR-CALNAME:The John Godber Centre
X-ORIGINAL-URL:https://www.johngodbercentre.co.uk
X-WR-CALDESC:Events for The John Godber Centre
BEGIN:VTIMEZONE
TZID:Europe/London
BEGIN:DAYLIGHT
TZOFFSETFROM:+0000
TZOFFSETTO:+0100
TZNAME:BST
DTSTART:20250330T010000
END:DAYLIGHT
BEGIN:STANDARD
TZOFFSETFROM:+0100
TZOFFSETTO:+0000
TZNAME:GMT
DTSTART:20251026T010000
END:STANDARD
END:VTIMEZONE
BEGIN:VEVENT
DTSTART;TZID=Europe/London:20251210T143000
DTEND;TZID=Europe/London:20251210T163000
DTSTAMP:20260424T062713
CREATED:20251128T220033Z
LAST-MODIFIED:20251128T220033Z
UID:3922-1765377000-1765384200@www.johngodbercentre.co.uk
SUMMARY:Hucknall Flower Arrangers December Meeting
DESCRIPTION:Join the Hucknall Flower Arranging Group on the 1st Wednesday of the month.\nFeaturing flower arranging demonstrations and tutorials however in December due to the Christmas Light Switch on the session is the week after with a special festive demonstration to enjoy.  \nFor further information contact Janice on 07514048008 \nSee our Facebook page for recent demonstration images.\nA warm\, friendly welcoming group\, new members or visitors welcome.
URL:https://www.johngodbercentre.co.uk/event/hucknall-flower-arrangers-december-meeting-2/
LOCATION:The John Godber Centre\, Ogle Street\, Hucknall\, Nottingham\, Nottinghamshire\, NG15 7FQ\, United Kingdom
CATEGORIES:Community,creative,Flower Arranging
ATTACH;FMTTYPE=image/jpeg:https://www.johngodbercentre.co.uk/wp-content/uploads/2025/11/Flower-Arrangers-DEcember.jpg
END:VEVENT
END:VCALENDAR