BEGIN:VCALENDAR
VERSION:2.0
PRODID:-//The John Godber Centre - ECPv5.10.0//NONSGML v1.0//EN
CALSCALE:GREGORIAN
METHOD:PUBLISH
X-WR-CALNAME:The John Godber Centre
X-ORIGINAL-URL:https://www.johngodbercentre.co.uk
X-WR-CALDESC:Events for The John Godber Centre
BEGIN:VTIMEZONE
TZID:Europe/London
BEGIN:DAYLIGHT
TZOFFSETFROM:+0000
TZOFFSETTO:+0100
TZNAME:BST
DTSTART:20250330T010000
END:DAYLIGHT
BEGIN:STANDARD
TZOFFSETFROM:+0100
TZOFFSETTO:+0000
TZNAME:GMT
DTSTART:20251026T010000
END:STANDARD
END:VTIMEZONE
BEGIN:VEVENT
DTSTART;TZID=Europe/London:20251205T180000
DTEND;TZID=Europe/London:20251205T220000
DTSTAMP:20260424T062546
CREATED:20251111T231841Z
LAST-MODIFIED:20251111T231841Z
UID:3901-1764957600-1764972000@www.johngodbercentre.co.uk
SUMMARY:Elftastic Family Christmas Party
DESCRIPTION:Join us for an evening of family fun and games for all ages\, bringing the spirit of Christmas to all.  \n⭐ Elftastic Family Christmas Party ⭐ \nBook your tickets now for a night that will be sure to get you in the festive spirit\, featuring the main man himeself our own cheeky elf!  \nTickets can be reserved by calling 0115 963 9633 or emailing reception@johngodbercentre.co.uk\nWe’ve got another amazing night planned for you with great music and all of our favourite fun and games we know you all love so much.\nSo many events\, One great venue 💜
URL:https://www.johngodbercentre.co.uk/event/elftastic-family-christmas-party-3/
LOCATION:The John Godber Centre\, Ogle Street\, Hucknall\, Nottingham\, Nottinghamshire\, NG15 7FQ\, United Kingdom
CATEGORIES:Celebration,Christmas,Community,Families
ATTACH;FMTTYPE=image/png:https://www.johngodbercentre.co.uk/wp-content/uploads/2025/11/Elftastic-2025.png
ORGANIZER;CN="John%20Godber%20Centre":MAILTO:reception@johngodbercentre.co.uk
END:VEVENT
END:VCALENDAR