BEGIN:VCALENDAR
VERSION:2.0
PRODID:-//The John Godber Centre - ECPv5.10.0//NONSGML v1.0//EN
CALSCALE:GREGORIAN
METHOD:PUBLISH
X-WR-CALNAME:The John Godber Centre
X-ORIGINAL-URL:https://www.johngodbercentre.co.uk
X-WR-CALDESC:Events for The John Godber Centre
BEGIN:VTIMEZONE
TZID:Europe/London
BEGIN:DAYLIGHT
TZOFFSETFROM:+0000
TZOFFSETTO:+0100
TZNAME:BST
DTSTART:20250330T010000
END:DAYLIGHT
BEGIN:STANDARD
TZOFFSETFROM:+0100
TZOFFSETTO:+0000
TZNAME:GMT
DTSTART:20251026T010000
END:STANDARD
END:VTIMEZONE
BEGIN:VEVENT
DTSTART;TZID=Europe/London:20250806T143000
DTEND;TZID=Europe/London:20250806T163000
DTSTAMP:20260424T005553
CREATED:20250724T084652Z
LAST-MODIFIED:20250724T084652Z
UID:3857-1754490600-1754497800@www.johngodbercentre.co.uk
SUMMARY:Hucknall Flower Arrangers August Demonstration - Jean Fordham
DESCRIPTION:Join the Hucknall Flower Arranging Group on the 1st Wednesday of the month.\nFeaturing flower arranging demonstrations and tutorials \nFor further details phone 07514 048 008\nwww.flowersnorthmidlands.co.uk/hucknall-flower-arrangement-group/ \nSee our Facebook page for recent demonstration images.\nA warm\, friendly welcoming group\, new members or visitors welcome.
URL:https://www.johngodbercentre.co.uk/event/hucknall-flower-arrangers-august-demonstration-jean-fordham/
CATEGORIES:Community,Flower Arranging,social,wellbeing
ATTACH;FMTTYPE=image/jpeg:https://www.johngodbercentre.co.uk/wp-content/uploads/2025/07/HFAG-Meeting-poster-August-2025.jpg
END:VEVENT
END:VCALENDAR