BEGIN:VCALENDAR
VERSION:2.0
PRODID:-//The John Godber Centre - ECPv5.10.0//NONSGML v1.0//EN
CALSCALE:GREGORIAN
METHOD:PUBLISH
X-WR-CALNAME:The John Godber Centre
X-ORIGINAL-URL:https://www.johngodbercentre.co.uk
X-WR-CALDESC:Events for The John Godber Centre
BEGIN:VTIMEZONE
TZID:Europe/London
BEGIN:DAYLIGHT
TZOFFSETFROM:+0000
TZOFFSETTO:+0100
TZNAME:BST
DTSTART:20250330T010000
END:DAYLIGHT
BEGIN:STANDARD
TZOFFSETFROM:+0100
TZOFFSETTO:+0000
TZNAME:GMT
DTSTART:20251026T010000
END:STANDARD
END:VTIMEZONE
BEGIN:VEVENT
DTSTART;TZID=Europe/London:20250601T110000
DTEND;TZID=Europe/London:20250601T140000
DTSTAMP:20260423T203826
CREATED:20250315T121245Z
LAST-MODIFIED:20250315T122525Z
UID:3811-1748775600-1748786400@www.johngodbercentre.co.uk
SUMMARY:Community Craft Fair - June
DESCRIPTION:Come join us for our June Community Craft Fair\, just in time for Fathers Day gift ideas! \nThese new regular events aim to be a lovely crafternoon for the whole community to enjoy welcoming craft stalls along with community and charity stalls and a warm and friendly welcome each month to our community venue in Hucknall.  \nThere will be a cakes and refreshments area to raise funds for our registered charities and a children’s activity corner for younger visitors.  Our hope is to provide a place to meet and catchup in the local area and shop some wonderful creatives and sip.  \nWe welcome new stall holders selling crafts\, gifts\, books and beauty as well as regular stall holders who have stood with us in the past at our festive and seasonal events.  \nThe dates we have planned for 2025 are –\n•              Sunday 6th April\n•              Sunday 1st June\n•              Sunday 7th September\n•              Sunday 5th October \nThe John Godber Centre and its churches are part of registered charity (charity number 1132272) and stall hire as well as funds raised on the day contribute to our activities and refurbishments. \nThose interested in booking a stall at the events please contact us on 0115 963 9633 or by email reception@johngodbercentre.co.uk  \n \nSo many events\, one great venue 💜
URL:https://www.johngodbercentre.co.uk/event/community-craft-fair-june/
LOCATION:The John Godber Centre\, Ogle Street\, Hucknall\, Nottingham\, Nottinghamshire\, NG15 7FQ\, United Kingdom
CATEGORIES:Community,Craft Fair,Fundraising
ATTACH;FMTTYPE=image/jpeg:https://www.johngodbercentre.co.uk/wp-content/uploads/2025/03/June-2025-Craft-Fair.jpeg
ORGANIZER;CN="John%20Godber%20Centre":MAILTO:reception@johngodbercentre.co.uk
END:VEVENT
END:VCALENDAR