BEGIN:VCALENDAR
VERSION:2.0
PRODID:-//The John Godber Centre - ECPv5.10.0//NONSGML v1.0//EN
CALSCALE:GREGORIAN
METHOD:PUBLISH
X-WR-CALNAME:The John Godber Centre
X-ORIGINAL-URL:https://www.johngodbercentre.co.uk
X-WR-CALDESC:Events for The John Godber Centre
BEGIN:VTIMEZONE
TZID:Europe/London
BEGIN:DAYLIGHT
TZOFFSETFROM:+0000
TZOFFSETTO:+0100
TZNAME:BST
DTSTART:20250330T010000
END:DAYLIGHT
BEGIN:STANDARD
TZOFFSETFROM:+0100
TZOFFSETTO:+0000
TZNAME:GMT
DTSTART:20251026T010000
END:STANDARD
END:VTIMEZONE
BEGIN:VEVENT
DTSTART;TZID=Europe/London:20250329T193000
DTEND;TZID=Europe/London:20250329T233000
DTSTAMP:20260423T174342
CREATED:20250315T102633Z
LAST-MODIFIED:20250315T122605Z
UID:3796-1743276600-1743291000@www.johngodbercentre.co.uk
SUMMARY:The International Glamour Girls Cabaret Party Night 2025
DESCRIPTION:The Glamour Girls return to the John Godber Centre for their 12th visit for another evening of fun\, frolics and endless laughter at the John Godber Centre! \nIf you’ve missed them on their previous SELL OUT visits to us or haven’t seen their incredible show ‘Glamour Hisaronu’\, you can’t afford to miss out again! \n \nTickets are on sale from the John Godber Centre on 0115 963 9633 now  \nAn amazing night\, doors open at 7:30pm and the show starts at 9:00pm. \nSo many events\, one great venue 💜
URL:https://www.johngodbercentre.co.uk/event/the-international-glamour-girls-cabaret-party-night-2025/
LOCATION:The John Godber Centre\, Ogle Street\, Hucknall\, Nottingham\, Nottinghamshire\, NG15 7FQ\, United Kingdom
CATEGORIES:Comedy,Community,Live entertainment
ATTACH;FMTTYPE=image/jpeg:https://www.johngodbercentre.co.uk/wp-content/uploads/2025/03/Glamour-2025.jpg
ORGANIZER;CN="John%20Godber%20Centre":MAILTO:reception@johngodbercentre.co.uk
END:VEVENT
END:VCALENDAR