BEGIN:VCALENDAR
VERSION:2.0
PRODID:-//The John Godber Centre - ECPv5.10.0//NONSGML v1.0//EN
CALSCALE:GREGORIAN
METHOD:PUBLISH
X-WR-CALNAME:The John Godber Centre
X-ORIGINAL-URL:https://www.johngodbercentre.co.uk
X-WR-CALDESC:Events for The John Godber Centre
BEGIN:VTIMEZONE
TZID:Europe/London
BEGIN:DAYLIGHT
TZOFFSETFROM:+0000
TZOFFSETTO:+0100
TZNAME:BST
DTSTART:20240331T010000
END:DAYLIGHT
BEGIN:STANDARD
TZOFFSETFROM:+0100
TZOFFSETTO:+0000
TZNAME:GMT
DTSTART:20241027T010000
END:STANDARD
END:VTIMEZONE
BEGIN:VEVENT
DTSTART;TZID=Europe/London:20241108T190000
DTEND;TZID=Europe/London:20241108T230000
DTSTAMP:20260423T174007
CREATED:20240914T193300Z
LAST-MODIFIED:20240914T193300Z
UID:3711-1731092400-1731106800@www.johngodbercentre.co.uk
SUMMARY:BEE'S KNEES CHARITY FASHION SHOW AND SOCIAL
DESCRIPTION:Charity Fashion Show & Social Night on Friday 8th November with The Bee’s Knees Preloved Boutique\nRaising money for Haywood House and Maggies\nThere will be live music\, a photobooth\, bingo and stalls to enjoy\nTickets are £12.50 each (age 18+) and include your entertainment for the evening\, bingo card and a bite to eat!\nCome join Emma and Jane and all the team for a wonderful night of FUNdraising for two fantastic causes.\nSo many events\, one great venue 💜
URL:https://www.johngodbercentre.co.uk/event/bees-knees-charity-fashion-show-and-social/
LOCATION:The John Godber Centre\, Ogle Street\, Hucknall\, Nottingham\, Nottinghamshire\, NG15 7FQ\, United Kingdom
CATEGORIES:Community,Fundraising,Live entertainment,Shopping,social
ATTACH;FMTTYPE=image/jpeg:https://www.johngodbercentre.co.uk/wp-content/uploads/2024/06/The-Bees-Knees-Fashion-Show.jpg
END:VEVENT
END:VCALENDAR