BEGIN:VCALENDAR
VERSION:2.0
PRODID:-//The John Godber Centre - ECPv5.10.0//NONSGML v1.0//EN
CALSCALE:GREGORIAN
METHOD:PUBLISH
X-WR-CALNAME:The John Godber Centre
X-ORIGINAL-URL:https://www.johngodbercentre.co.uk
X-WR-CALDESC:Events for The John Godber Centre
BEGIN:VTIMEZONE
TZID:Europe/London
BEGIN:DAYLIGHT
TZOFFSETFROM:+0000
TZOFFSETTO:+0100
TZNAME:BST
DTSTART:20210328T010000
END:DAYLIGHT
BEGIN:STANDARD
TZOFFSETFROM:+0100
TZOFFSETTO:+0000
TZNAME:GMT
DTSTART:20211031T010000
END:STANDARD
END:VTIMEZONE
BEGIN:VEVENT
DTSTART;TZID=Europe/London:20210822T110000
DTEND;TZID=Europe/London:20210822T140000
DTSTAMP:20260422T224931
CREATED:20210821T131832Z
LAST-MODIFIED:20210821T131832Z
UID:3057-1629630000-1629640800@www.johngodbercentre.co.uk
SUMMARY:Open Day
DESCRIPTION:Join us for our Open Day \nOur doors will be open between 11am and 2pm on Sunday 22nd August for the opportunity to:  \nsee our events and activity spaces including our latest refurbishment project\, our new furniture\nmeet a range of our user groups to see the many groups and classes that take place through the week here and talk to group leaders\nsee live event demos from our groups showcasing what they do and get involved \ntalk to our team about our spaces and how we can help you plan your event or new group\nvisit the onsite preschool and meet the team\nenjoy a sit down and refreshments in our bar area and function rooms\nWe look forward to welcoming you on Sunday
URL:https://www.johngodbercentre.co.uk/event/open-day/
LOCATION:The John Godber Centre\, Ogle Street\, Hucknall\, Nottingham\, Nottinghamshire\, NG15 7FQ\, United Kingdom
CATEGORIES:Business,Celebration,Children,Church,Community,Dance,Families,Party,Theatre,Training,Wedding reception,wellbeing
ATTACH;FMTTYPE=image/jpeg:https://www.johngodbercentre.co.uk/wp-content/uploads/2021/08/OPEN-DAY-JPEG.jpg
ORGANIZER;CN="John%20Godber%20Centre":MAILTO:reception@johngodbercentre.co.uk
END:VEVENT
END:VCALENDAR