BEGIN:VCALENDAR
VERSION:2.0
PRODID:-//The John Godber Centre - ECPv5.10.0//NONSGML v1.0//EN
CALSCALE:GREGORIAN
METHOD:PUBLISH
X-WR-CALNAME:The John Godber Centre
X-ORIGINAL-URL:https://www.johngodbercentre.co.uk
X-WR-CALDESC:Events for The John Godber Centre
BEGIN:VTIMEZONE
TZID:Europe/London
BEGIN:DAYLIGHT
TZOFFSETFROM:+0000
TZOFFSETTO:+0100
TZNAME:BST
DTSTART:20210328T010000
END:DAYLIGHT
BEGIN:STANDARD
TZOFFSETFROM:+0100
TZOFFSETTO:+0000
TZNAME:GMT
DTSTART:20211031T010000
END:STANDARD
END:VTIMEZONE
BEGIN:VEVENT
DTSTART;TZID=Europe/London:20210816T100000
DTEND;TZID=Europe/London:20210816T120000
DTSTAMP:20260422T225038
CREATED:20210602T095806Z
LAST-MODIFIED:20210602T095806Z
UID:3000-1629108000-1629115200@www.johngodbercentre.co.uk
SUMMARY:Baby and Child First Aid
DESCRIPTION:Join Mini First for this Baby and Child First Aid Course \nBaby & Child First Aid classes are for parents\, grandparents and carers and are delivered in a relaxed and comfortable style to give you confidence to know what actions to take if faced with a medical emergency. \nThe class takes place 10am to 12pm in the Ground Floor Byron room. Pre-crawling babies are welcome.\nCOVID Secure setting and course.\nTo book your place go the the Mini First Aid Website
URL:https://www.johngodbercentre.co.uk/event/baby-and-child-first-aid/
LOCATION:The John Godber Centre\, Ogle Street\, Hucknall\, Nottingham\, Nottinghamshire\, NG15 7FQ\, United Kingdom
CATEGORIES:Children,Community,Training
ATTACH;FMTTYPE=image/png:https://www.johngodbercentre.co.uk/wp-content/uploads/2021/06/John-Godber-Poster-August.png
ORGANIZER;CN="Mini%20First%20Aid":MAILTO:maria@minifirstaid.co.uk
END:VEVENT
BEGIN:VEVENT
DTSTART;TZID=Europe/London:20210816T130000
DTEND;TZID=Europe/London:20210816T150000
DTSTAMP:20260422T225038
CREATED:20210627T200435Z
LAST-MODIFIED:20210627T200435Z
UID:3021-1629118800-1629126000@www.johngodbercentre.co.uk
SUMMARY:Kids First Aid Class
DESCRIPTION:Join Mini First for this Kids First Aid Course \nWould your 3-6 year or 7-11 year old know what to do in an emergency? Help them learn with a Mini First Kids Class!  \nEarly Years (age 3-6) 13.00-13.30 £8\nThis fun and interactive 30 minute story and play based session gently introduces children to First Aid including calling 999\, shouting for help and treating minor injuries. Kids First Aid classes are for parents\, grandparents and carers and are delivered in a relaxed and comfortable style to give you confidence to know what actions to take if faced with a medical emergency. \nKids (age 7-11) 14.00-15.00 £10\nThis fun and engaging 1 hour practical session introduces children to basic and life saving First Aid including CPR\, dealing with a choking emergency\, burns\, bleeds and more. Children have the opportunity to practice the techniques on manikins to help them learn practical skills. \nCOVID Secure setting and courses.\nTo book your place go the the Mini First Aid Website Early Years\nMini First Aid Website Kids
URL:https://www.johngodbercentre.co.uk/event/kids-first-aid-class/
LOCATION:The John Godber Centre\, Ogle Street\, Hucknall\, Nottingham\, Nottinghamshire\, NG15 7FQ\, United Kingdom
CATEGORIES:Children,Community,Training
ATTACH;FMTTYPE=image/jpeg:https://www.johngodbercentre.co.uk/wp-content/uploads/2021/06/Kids-Mini-First-id.jpg
END:VEVENT
END:VCALENDAR