BEGIN:VCALENDAR
VERSION:2.0
PRODID:-//The John Godber Centre - ECPv5.10.0//NONSGML v1.0//EN
CALSCALE:GREGORIAN
METHOD:PUBLISH
X-WR-CALNAME:The John Godber Centre
X-ORIGINAL-URL:https://www.johngodbercentre.co.uk
X-WR-CALDESC:Events for The John Godber Centre
BEGIN:VTIMEZONE
TZID:Europe/London
BEGIN:DAYLIGHT
TZOFFSETFROM:+0000
TZOFFSETTO:+0100
TZNAME:BST
DTSTART:20190331T010000
END:DAYLIGHT
BEGIN:STANDARD
TZOFFSETFROM:+0100
TZOFFSETTO:+0000
TZNAME:GMT
DTSTART:20191027T010000
END:STANDARD
END:VTIMEZONE
BEGIN:VEVENT
DTSTART;TZID=Europe/London:20191129T193000
DTEND;TZID=Europe/London:20191129T230000
DTSTAMP:20260426T035746
CREATED:20191106T131542Z
LAST-MODIFIED:20191106T131542Z
UID:2650-1575055800-1575068400@www.johngodbercentre.co.uk
SUMMARY:Thanksgiving Hoedown
DESCRIPTION:West Hucknall Baptist Church invite you to their 60th Anniversary Thanksgiving Hoedown! \nJoin us at the John Godber Centre on Friday 29th November 2019\, 7:30pm to 11:pm. \nAdults: £6\, Children 10 and over: £3\, All children 9 and under: FREE. \nOrder tickets on 0115 963 3140 or 0115 963 9434 \nDrinks on sale but please bring your own snacks/nibbles.
URL:https://www.johngodbercentre.co.uk/event/thanksgiving-hoedown/
LOCATION:The John Godber Centre\, Ogle Street\, Hucknall\, Nottingham\, Nottinghamshire\, NG15 7FQ\, United Kingdom
CATEGORIES:Children,Church,Community,Dance,Families
ATTACH;FMTTYPE=image/jpeg:https://www.johngodbercentre.co.uk/wp-content/uploads/2019/11/west_baptist_hoedown_event_header.jpg
END:VEVENT
END:VCALENDAR