BEGIN:VCALENDAR
VERSION:2.0
PRODID:-//The John Godber Centre - ECPv5.10.0//NONSGML v1.0//EN
CALSCALE:GREGORIAN
METHOD:PUBLISH
X-WR-CALNAME:The John Godber Centre
X-ORIGINAL-URL:https://www.johngodbercentre.co.uk
X-WR-CALDESC:Events for The John Godber Centre
BEGIN:VTIMEZONE
TZID:Europe/London
BEGIN:DAYLIGHT
TZOFFSETFROM:+0000
TZOFFSETTO:+0100
TZNAME:BST
DTSTART:20180325T010000
END:DAYLIGHT
BEGIN:STANDARD
TZOFFSETFROM:+0100
TZOFFSETTO:+0000
TZNAME:GMT
DTSTART:20181028T010000
END:STANDARD
END:VTIMEZONE
BEGIN:VEVENT
DTSTART;TZID=Europe/London:20180518T190000
DTEND;TZID=Europe/London:20180518T220000
DTSTAMP:20260422T053813
CREATED:20180321T220912Z
LAST-MODIFIED:20180321T220912Z
UID:1964-1526670000-1526680800@www.johngodbercentre.co.uk
SUMMARY:Time Murderer Please show 2
DESCRIPTION:The Lovelace Theatre Group present Time Murderer Please. \nA stranger arrives at a pub claiming to have lost his memory\, but bearing a close resemblance to a man wanted for questionning about the seemingly senseless murder of a school teacher. At first the residents and staff of the pub have no suspicions\, but the mysterious visitor begins to draw his own conclusions as pieces of his identity begin to fall into place – is he really Michael Wiltone\, the man the Police are seeking? \nDirected by Chris Knowles and Jessica Wall. \nPerformances on the 17th\, 18th and 19th May. \nTickets are £7 each\, £6 concessions. Available online at Seaty.
URL:https://www.johngodbercentre.co.uk/event/time-murderer-please-show-2/
LOCATION:The John Godber Centre\, Ogle Street\, Hucknall\, Nottingham\, Nottinghamshire\, NG15 7FQ\, United Kingdom
CATEGORIES:Theatre
ATTACH;FMTTYPE=image/jpeg:https://www.johngodbercentre.co.uk/wp-content/uploads/2018/03/lovelace_TMP_header_large.jpg
ORGANIZER;CN="Rebecca%20Morris":MAILTO:president@lovelacetheatregroup.co.uk
END:VEVENT
END:VCALENDAR