BEGIN:VCALENDAR
VERSION:2.0
PRODID:-//The John Godber Centre - ECPv5.10.0//NONSGML v1.0//EN
CALSCALE:GREGORIAN
METHOD:PUBLISH
X-WR-CALNAME:The John Godber Centre
X-ORIGINAL-URL:https://www.johngodbercentre.co.uk
X-WR-CALDESC:Events for The John Godber Centre
BEGIN:VTIMEZONE
TZID:Europe/London
BEGIN:DAYLIGHT
TZOFFSETFROM:+0000
TZOFFSETTO:+0100
TZNAME:BST
DTSTART:20180325T010000
END:DAYLIGHT
BEGIN:STANDARD
TZOFFSETFROM:+0100
TZOFFSETTO:+0000
TZNAME:GMT
DTSTART:20181028T010000
END:STANDARD
END:VTIMEZONE
BEGIN:VEVENT
DTSTART;TZID=Europe/London:20180711T143000
DTEND;TZID=Europe/London:20180711T163000
DTSTAMP:20260422T040137
CREATED:20180613T152136Z
LAST-MODIFIED:20180613T152937Z
UID:2112-1531319400-1531326600@www.johngodbercentre.co.uk
SUMMARY:Tea with Oscar Wilde
DESCRIPTION:The Hucknall Byron Festival Committee invite you to “Tea with Oscar Wilde” – Victorian Theatre with Bite… \nStarts at 2:30pm\, followed by Afternoon Tea. \nTickets are £10.00 per head (including tea)\, and are avilable from the John Godber Centre. \nSponsored by Specsavers. \n\nDownload the Tea with Oscar Wilde event poster.
URL:https://www.johngodbercentre.co.uk/event/tea-with-oscar-wilde/
LOCATION:The John Godber Centre\, Ogle Street\, Hucknall\, Nottingham\, Nottinghamshire\, NG15 7FQ\, United Kingdom
CATEGORIES:Community,Festival,Theatre
ATTACH;FMTTYPE=image/jpeg:https://www.johngodbercentre.co.uk/wp-content/uploads/2018/06/TWOW_event_header_large.jpg
END:VEVENT
END:VCALENDAR