BEGIN:VCALENDAR
VERSION:2.0
PRODID:-//The John Godber Centre - ECPv5.10.0//NONSGML v1.0//EN
CALSCALE:GREGORIAN
METHOD:PUBLISH
X-WR-CALNAME:The John Godber Centre
X-ORIGINAL-URL:https://www.johngodbercentre.co.uk
X-WR-CALDESC:Events for The John Godber Centre
BEGIN:VTIMEZONE
TZID:Europe/London
BEGIN:DAYLIGHT
TZOFFSETFROM:+0000
TZOFFSETTO:+0100
TZNAME:BST
DTSTART:20190331T010000
END:DAYLIGHT
BEGIN:STANDARD
TZOFFSETFROM:+0100
TZOFFSETTO:+0000
TZNAME:GMT
DTSTART:20191027T010000
END:STANDARD
END:VTIMEZONE
BEGIN:VEVENT
DTSTART;TZID=Europe/London:20190120T130000
DTEND;TZID=Europe/London:20190120T150000
DTSTAMP:20260422T232554
CREATED:20181222T111352Z
LAST-MODIFIED:20181222T111352Z
UID:2388-1547989200-1547996400@www.johngodbercentre.co.uk
SUMMARY:Snow White and the Seven Dwarfs 5
DESCRIPTION:The Lovelace Theatre Group present their 2019 pantomime ‘Snow White and the Seven Dwarfs’\, sure to be a comedy-filled fun production for the whole family… ‘oh yes it is!’. \nFollow this link to find out more details\, and information on which cast members are performing at which shows (important if you’re coming to see a particular person from the junior group perform). \nTickets are £7 for adults and £6 for children and over 60s. \nSpecial offer: Thursday tickets are £6 adults and £5 concessions. \nTickets available from the John Godber Centre or online at www.seaty.co.uk
URL:https://www.johngodbercentre.co.uk/event/snow-white-and-the-seven-dwarfs-5/
LOCATION:The John Godber Centre\, Ogle Street\, Hucknall\, Nottingham\, Nottinghamshire\, NG15 7FQ\, United Kingdom
CATEGORIES:Children,Community,Families,Pantomime,Theatre
ATTACH;FMTTYPE=image/jpeg:https://www.johngodbercentre.co.uk/wp-content/uploads/2018/12/snow_white_flyer_feature.jpg
ORGANIZER;CN="Kim%20Pears":MAILTO:manager@johngodbercentre.co.uk
END:VEVENT
END:VCALENDAR