BEGIN:VCALENDAR
VERSION:2.0
PRODID:-//The John Godber Centre - ECPv5.10.0//NONSGML v1.0//EN
CALSCALE:GREGORIAN
METHOD:PUBLISH
X-WR-CALNAME:The John Godber Centre
X-ORIGINAL-URL:https://www.johngodbercentre.co.uk
X-WR-CALDESC:Events for The John Godber Centre
BEGIN:VTIMEZONE
TZID:Europe/London
BEGIN:DAYLIGHT
TZOFFSETFROM:+0000
TZOFFSETTO:+0100
TZNAME:BST
DTSTART:20190331T010000
END:DAYLIGHT
BEGIN:STANDARD
TZOFFSETFROM:+0100
TZOFFSETTO:+0000
TZNAME:GMT
DTSTART:20191027T010000
END:STANDARD
END:VTIMEZONE
BEGIN:VEVENT
DTSTART;TZID=Europe/London:20191017T193000
DTEND;TZID=Europe/London:20191017T213000
DTSTAMP:20260426T013925
CREATED:20190829T161810Z
LAST-MODIFIED:20190829T161934Z
UID:2601-1571340600-1571347800@www.johngodbercentre.co.uk
SUMMARY:ONE MAN\, TWO GUVNORS performance 1
DESCRIPTION:Lovelace Theatre Group will be holding their annual October production here at the John Godber Centre Hucknall\, Nottingham on the 17th and 18th October with their production of One Man\, Two Guvnors by Richard Bean\, presented by special arrangement with SAMUEL FRENCH LTD\, a Concord Theatricals Company. \nNewly unemployed Francis Henshall becomes minder to small time gangster Roscoe Crabbe. But Roscoe is really his sister Rachel\, who is posing as her own dead brother after he was killed by her boyfriend Stanley Stubbers. \nFrancis spots the chance of an extra meal ticket and takes a second job with one Stanley Stubbers\, who is hiding from the police and waiting to be reunited with Rachel. To prevent discovery\, Francis must keep his two guvnors apart. Simple. \nWe’re proud to be the home of Lovelace Theatre Group and look forward to their next production on our stage. Tickets are on sale now at https://seaty.co.uk/lovelaceoct19 or cash purchase from the Centre reception desk. \nTickets: £7 each / £6 Concessions
URL:https://www.johngodbercentre.co.uk/event/one-man-two-guvnors-performance-1/
LOCATION:The John Godber Centre\, Ogle Street\, Hucknall\, Nottingham\, Nottinghamshire\, NG15 7FQ\, United Kingdom
CATEGORIES:Community,Theatre
ATTACH;FMTTYPE=image/jpeg:https://www.johngodbercentre.co.uk/wp-content/uploads/2019/08/one_man.jpg
ORGANIZER;CN="Lovelace%20Theatre%20Group":MAILTO:president@lovelacetheatregroup.co.uk
END:VEVENT
END:VCALENDAR