BEGIN:VCALENDAR
VERSION:2.0
PRODID:-//The John Godber Centre - ECPv5.10.0//NONSGML v1.0//EN
CALSCALE:GREGORIAN
METHOD:PUBLISH
X-WR-CALNAME:The John Godber Centre
X-ORIGINAL-URL:https://www.johngodbercentre.co.uk
X-WR-CALDESC:Events for The John Godber Centre
BEGIN:VTIMEZONE
TZID:Europe/London
BEGIN:DAYLIGHT
TZOFFSETFROM:+0000
TZOFFSETTO:+0100
TZNAME:BST
DTSTART:20190331T010000
END:DAYLIGHT
BEGIN:STANDARD
TZOFFSETFROM:+0100
TZOFFSETTO:+0000
TZNAME:GMT
DTSTART:20191027T010000
END:STANDARD
END:VTIMEZONE
BEGIN:VEVENT
DTSTART;TZID=Europe/London:20190302T130000
DTEND;TZID=Europe/London:20190302T143000
DTSTAMP:20260422T232527
CREATED:20190109T170402Z
LAST-MODIFIED:20190117T101511Z
UID:2428-1551531600-1551537000@www.johngodbercentre.co.uk
SUMMARY:Kiddywinx Baby Markets
DESCRIPTION:Preloved baby sale open 1-2.30pm – great way of grabbing some bargains at unbelievable prices!\nAdmission: Adults £1\, children FREE. See poster below for more details. \nPreloved quality branded toys\, clothes\, books\, pushchairs\, highchairs\, walkers\, nursery items and so much more! \nStall hire from £9\, craft and business stalls welcome.
URL:https://www.johngodbercentre.co.uk/event/kiddywinx-baby-markets/
LOCATION:The John Godber Centre\, Ogle Street\, Hucknall\, Nottingham\, Nottinghamshire\, NG15 7FQ\, United Kingdom
CATEGORIES:Business,Children,Community,Families
ATTACH;FMTTYPE=image/jpeg:https://www.johngodbercentre.co.uk/wp-content/uploads/2019/01/kiddywinx_baby_markets_logo_crop.jpg
ORGANIZER;CN="Kim%20Pears":MAILTO:manager@johngodbercentre.co.uk
END:VEVENT
END:VCALENDAR