BEGIN:VCALENDAR
VERSION:2.0
PRODID:-//The John Godber Centre - ECPv5.10.0//NONSGML v1.0//EN
CALSCALE:GREGORIAN
METHOD:PUBLISH
X-WR-CALNAME:The John Godber Centre
X-ORIGINAL-URL:https://www.johngodbercentre.co.uk
X-WR-CALDESC:Events for The John Godber Centre
BEGIN:VTIMEZONE
TZID:Europe/London
BEGIN:DAYLIGHT
TZOFFSETFROM:+0000
TZOFFSETTO:+0100
TZNAME:BST
DTSTART:20230326T010000
END:DAYLIGHT
BEGIN:STANDARD
TZOFFSETFROM:+0100
TZOFFSETTO:+0000
TZNAME:GMT
DTSTART:20231029T010000
END:STANDARD
END:VTIMEZONE
BEGIN:VEVENT
DTSTART;TZID=Europe/London:20231206T160000
DTEND;TZID=Europe/London:20231206T200000
DTSTAMP:20260422T004327
CREATED:20230920T133148Z
LAST-MODIFIED:20230920T133148Z
UID:3493-1701878400-1701892800@www.johngodbercentre.co.uk
SUMMARY:Indoor Christmas Market 2023
DESCRIPTION:Come along to our fantastic indoor Christmas Market 2023! \nThere’ll be plenty of stalls for all your Christmas needs\, including: Tombola\, Cakes\, Beauty\, Jewellery\, Gifts\, Books\, Cards\, Crafts\, and much\, much more! \nWe’ve a bar\, hot refreshments and local real ales and gin! \nPart of the Hucknall Christmas Light Switch on  \nTo book a stall contact Kim our Centre Manager via email reception@johngodbercentre.co.uk
URL:https://www.johngodbercentre.co.uk/event/indoor-christmas-market-2023/
LOCATION:The John Godber Centre\, Ogle Street\, Hucknall\, Nottingham\, Nottinghamshire\, NG15 7FQ\, United Kingdom
CATEGORIES:Community,Craft Fair,Festival,Food and Drink,Fundraising,Shopping
ATTACH;FMTTYPE=image/jpeg:https://www.johngodbercentre.co.uk/wp-content/uploads/2023/09/Christmas-Market-2023-JPEG.jpg
ORGANIZER;CN="John%20Godber%20Centre":MAILTO:reception@johngodbercentre.co.uk
END:VEVENT
END:VCALENDAR