BEGIN:VCALENDAR
VERSION:2.0
PRODID:-//The John Godber Centre - ECPv5.10.0//NONSGML v1.0//EN
CALSCALE:GREGORIAN
METHOD:PUBLISH
X-WR-CALNAME:The John Godber Centre
X-ORIGINAL-URL:https://www.johngodbercentre.co.uk
X-WR-CALDESC:Events for The John Godber Centre
BEGIN:VTIMEZONE
TZID:Europe/London
BEGIN:DAYLIGHT
TZOFFSETFROM:+0000
TZOFFSETTO:+0100
TZNAME:BST
DTSTART:20250330T010000
END:DAYLIGHT
BEGIN:STANDARD
TZOFFSETFROM:+0100
TZOFFSETTO:+0000
TZNAME:GMT
DTSTART:20251026T010000
END:STANDARD
END:VTIMEZONE
BEGIN:VEVENT
DTSTART;TZID=Europe/London:20250213T170000
DTEND;TZID=Europe/London:20250216T150000
DTSTAMP:20260422T023044
CREATED:20240914T200251Z
LAST-MODIFIED:20241129T193132Z
UID:3731-1739466000-1739718000@www.johngodbercentre.co.uk
SUMMARY:Hucknall Beer and Cider Festival 2025
DESCRIPTION:13th-16th February 2025 – Hucknall Beer and Cider Festival \nThe annual Hucknall Beer Festival takes place 13th-16th February 2025\, supported by Nottingham CAMRA\nThis year opening once more to the public on Thursday evening\nFollowing the amazing success of last years event we’ll be back again with a great selection of real ales and ciders. Great food\, atmosphere and live entertainment  \nSee the festival page for further updates leading up to the event – thehucknallbeerfestival.co.uk \nThe festival is a charity fundraiser for the John Godber Centre\, registered charity 11322
URL:https://www.johngodbercentre.co.uk/event/hucknall-beer-and-cider-festival-2025/
LOCATION:The John Godber Centre\, Ogle Street\, Hucknall\, Nottingham\, Nottinghamshire\, NG15 7FQ\, United Kingdom
ATTACH;FMTTYPE=image/jpeg:https://www.johngodbercentre.co.uk/wp-content/uploads/2019/02/hucknall_beer_festival_setup_1.jpg
ORGANIZER;CN="John%20Godber%20Centre":MAILTO:reception@johngodbercentre.co.uk
END:VEVENT
END:VCALENDAR