BEGIN:VCALENDAR
VERSION:2.0
PRODID:-//The John Godber Centre - ECPv5.10.0//NONSGML v1.0//EN
CALSCALE:GREGORIAN
METHOD:PUBLISH
X-WR-CALNAME:The John Godber Centre
X-ORIGINAL-URL:https://www.johngodbercentre.co.uk
X-WR-CALDESC:Events for The John Godber Centre
BEGIN:VTIMEZONE
TZID:Europe/London
BEGIN:DAYLIGHT
TZOFFSETFROM:+0000
TZOFFSETTO:+0100
TZNAME:BST
DTSTART:20220327T010000
END:DAYLIGHT
BEGIN:STANDARD
TZOFFSETFROM:+0100
TZOFFSETTO:+0000
TZNAME:GMT
DTSTART:20221030T010000
END:STANDARD
END:VTIMEZONE
BEGIN:VEVENT
DTSTART;TZID=Europe/London:20220521T193000
DTEND;TZID=Europe/London:20220521T220000
DTSTAMP:20260422T022909
CREATED:20220302T140307Z
LAST-MODIFIED:20220302T140307Z
UID:3164-1653161400-1653170400@www.johngodbercentre.co.uk
SUMMARY:Grease - Lovelace Theatre Group
DESCRIPTION:The Lovelace Theatre Group present Grease.  \nDirected by Rebecca Mayes and Sian Crossland.  \nPerformances on the 19th\, 20th and 21st May 2022 \nTickets are £9 each or £8 for concessions.
URL:https://www.johngodbercentre.co.uk/event/grease-lovelace-theatre-group-3/
LOCATION:The John Godber Centre\, Ogle Street\, Hucknall\, Nottingham\, Nottinghamshire\, NG15 7FQ\, United Kingdom
CATEGORIES:Theatre
ORGANIZER;CN="Lovelace%20Theatre%20Group":MAILTO:president@lovelacetheatregroup.co.uk
END:VEVENT
END:VCALENDAR