BEGIN:VCALENDAR
VERSION:2.0
PRODID:-//The John Godber Centre - ECPv5.10.0//NONSGML v1.0//EN
CALSCALE:GREGORIAN
METHOD:PUBLISH
X-WR-CALNAME:The John Godber Centre
X-ORIGINAL-URL:https://www.johngodbercentre.co.uk
X-WR-CALDESC:Events for The John Godber Centre
BEGIN:VTIMEZONE
TZID:Europe/London
BEGIN:DAYLIGHT
TZOFFSETFROM:+0000
TZOFFSETTO:+0100
TZNAME:BST
DTSTART:20240331T010000
END:DAYLIGHT
BEGIN:STANDARD
TZOFFSETFROM:+0100
TZOFFSETTO:+0000
TZNAME:GMT
DTSTART:20241027T010000
END:STANDARD
END:VTIMEZONE
BEGIN:VEVENT
DTSTART;TZID=Europe/London:20241006T110000
DTEND;TZID=Europe/London:20241006T140000
DTSTAMP:20260422T005519
CREATED:20240605T102513Z
LAST-MODIFIED:20240801T122134Z
UID:3673-1728212400-1728223200@www.johngodbercentre.co.uk
SUMMARY:Community Craft Fair - October
DESCRIPTION:Come join us October for our NEW Community Craft Fairs.  \nThese new monthly events aim to be a lovely crafternoon for the whole community to enjoy welcoming craft stalls along with community and charity stalls and a warm and friendly welcome each month to our community venue in Hucknall.  \nThere will be a cakes and refreshments area to raise funds for our registered charities and a children’s activity corner for younger visitors.  Our hope is to provide a place to meet and catchup in the local area and shop some wonderful creatives and sip.  \nWe hope to welcome new stall holders selling crafts\, gifts\, books and beauty as well as regular stall holders who have stood with us in the past at our festive and seasonal events.  \nThe dates we have planned for 2024 are –\n•              Sunday 7th July\n•              Sunday 4th August\n•              Sunday 1st September\n•              Sunday 6th October \nThe John Godber Centre and its churches are part of registered charity (charity number 1132272) and stall hire as well as funds raised on the day contribute to our activities and refurbishments. \nThose interested in booking a stall at the events please contact us on 0115 963 9633 or by email reception@johngodbercentre.co.uk
URL:https://www.johngodbercentre.co.uk/event/community-craft-fair-october/
LOCATION:The John Godber Centre\, Ogle Street\, Hucknall\, Nottingham\, Nottinghamshire\, NG15 7FQ\, United Kingdom
CATEGORIES:Children,Community,Craft Fair,Families,Market,wellbeing
ATTACH;FMTTYPE=image/jpeg:https://www.johngodbercentre.co.uk/wp-content/uploads/2024/06/Craft-Fair-6-10-24.jpg
ORGANIZER;CN="John%20Godber%20Centre":MAILTO:reception@johngodbercentre.co.uk
END:VEVENT
END:VCALENDAR