BEGIN:VCALENDAR
VERSION:2.0
PRODID:-//The John Godber Centre - ECPv5.10.0//NONSGML v1.0//EN
CALSCALE:GREGORIAN
METHOD:PUBLISH
X-WR-CALNAME:The John Godber Centre
X-ORIGINAL-URL:https://www.johngodbercentre.co.uk
X-WR-CALDESC:Events for The John Godber Centre
BEGIN:VTIMEZONE
TZID:Europe/London
BEGIN:DAYLIGHT
TZOFFSETFROM:+0000
TZOFFSETTO:+0100
TZNAME:BST
DTSTART:20210328T010000
END:DAYLIGHT
BEGIN:STANDARD
TZOFFSETFROM:+0100
TZOFFSETTO:+0000
TZNAME:GMT
DTSTART:20211031T010000
END:STANDARD
END:VTIMEZONE
BEGIN:VEVENT
DTSTART;TZID=Europe/London:20211201T160000
DTEND;TZID=Europe/London:20211201T200000
DTSTAMP:20260422T005618
CREATED:20190621T105355Z
LAST-MODIFIED:20210929T102906Z
UID:2545-1638374400-1638388800@www.johngodbercentre.co.uk
SUMMARY:Christmas Market 2021
DESCRIPTION:IMPORTANT: THIS EVENT IS SUBJECT TO THE SUCCESSFUL LIFTING OF CORONAVIRUS RESTRICTIONS \nCome along to our fantastic indoor Christmas Market 2021! \nThere’ll be plenty of stalls for all your Christmas needs\, including: Tombola\, Cakes\, Beauty\, Jewellery\, Gifts\, Books\, Cards\, Crafts\, and much\, much more! \nWe’ve a bar\, hot refreshments and real ale! \nIf you’re visiting the Christmas Tree Festival at St Mary Magdalene church\, next door\, pop in before or after for a look around and some refreshments. \nWe intend for this event to go ahead as normal in 2021\, stalls will be on sale soon and any plans for COVID measures will be advised at the time of booking.\nThe event is subject to change inline with changes in public health advice during the winter if necessary
URL:https://www.johngodbercentre.co.uk/event/christmas-market-2021/
LOCATION:The John Godber Centre\, Ogle Street\, Hucknall\, Nottingham\, Nottinghamshire\, NG15 7FQ\, United Kingdom
CATEGORIES:Children,Christmas,Community,Families
ATTACH;FMTTYPE=image/jpeg:https://www.johngodbercentre.co.uk/wp-content/uploads/2021/05/christmas_poster_2021.jpg
ORGANIZER;CN="Kim%20Pears":MAILTO:manager@johngodbercentre.co.uk
END:VEVENT
END:VCALENDAR