BEGIN:VCALENDAR
VERSION:2.0
PRODID:-//The John Godber Centre - ECPv5.10.0//NONSGML v1.0//EN
CALSCALE:GREGORIAN
METHOD:PUBLISH
X-WR-CALNAME:The John Godber Centre
X-ORIGINAL-URL:https://www.johngodbercentre.co.uk
X-WR-CALDESC:Events for The John Godber Centre
BEGIN:VTIMEZONE
TZID:Europe/London
BEGIN:DAYLIGHT
TZOFFSETFROM:+0000
TZOFFSETTO:+0100
TZNAME:BST
DTSTART:20250330T010000
END:DAYLIGHT
BEGIN:STANDARD
TZOFFSETFROM:+0100
TZOFFSETTO:+0000
TZNAME:GMT
DTSTART:20251026T010000
END:STANDARD
END:VTIMEZONE
BEGIN:VEVENT
DTSTART;TZID=Europe/London:20251203T160000
DTEND;TZID=Europe/London:20251203T193000
DTSTAMP:20260421T231453
CREATED:20250315T122359Z
LAST-MODIFIED:20250713T205437Z
UID:3818-1764777600-1764790200@www.johngodbercentre.co.uk
SUMMARY:Christmas Market
DESCRIPTION:Come along to our fantastic indoor Christmas Market 2025! \nThere’ll be plenty of stalls for all your Christmas needs\, including: Tombola\, Cakes\, Beauty\, Jewellery\, Gifts\, Books\, Cards\, Crafts\, and much\, much more! \nWe’ve a bar\, hot refreshments and local real ales and gin! \nPart of the Hucknall Christmas Light Switch on and opening night of the Hucknall Tree Festival  \nSo many events\, one great venue 💜 \nStalls will be on sale once Ashfield District Council confirm the event date is the 3rd December for the town light switch on.
URL:https://www.johngodbercentre.co.uk/event/christmas-market-2/
LOCATION:The John Godber Centre\, Ogle Street\, Hucknall\, Nottingham\, Nottinghamshire\, NG15 7FQ\, United Kingdom
CATEGORIES:Christmas,Community,Craft Fair,Families,Fundraising,Market,Shopping
ATTACH;FMTTYPE=image/png:https://www.johngodbercentre.co.uk/wp-content/uploads/2025/03/Christmas-Market-3-12-25.png
ORGANIZER;CN="John%20Godber%20Centre":MAILTO:reception@johngodbercentre.co.uk
END:VEVENT
END:VCALENDAR