BEGIN:VCALENDAR
VERSION:2.0
PRODID:-//The John Godber Centre - ECPv5.10.0//NONSGML v1.0//EN
CALSCALE:GREGORIAN
METHOD:PUBLISH
X-WR-CALNAME:The John Godber Centre
X-ORIGINAL-URL:https://www.johngodbercentre.co.uk
X-WR-CALDESC:Events for The John Godber Centre
BEGIN:VTIMEZONE
TZID:Europe/London
BEGIN:DAYLIGHT
TZOFFSETFROM:+0000
TZOFFSETTO:+0100
TZNAME:BST
DTSTART:20190331T010000
END:DAYLIGHT
BEGIN:STANDARD
TZOFFSETFROM:+0100
TZOFFSETTO:+0000
TZNAME:GMT
DTSTART:20191027T010000
END:STANDARD
END:VTIMEZONE
BEGIN:VEVENT
DTSTART;TZID=Europe/London:20190927T193000
DTEND;TZID=Europe/London:20190928T003000
DTSTAMP:20260422T042558
CREATED:20190621T102739Z
LAST-MODIFIED:20190621T102739Z
UID:2540-1569612600-1569630600@www.johngodbercentre.co.uk
SUMMARY:Byron Northern Soul Club - September
DESCRIPTION:Join us for another fantastic night at the Byron Northern Soul Club\, a bi-monthly Northern Soul Night with special guests and resident DJs\, playing the very best Northern Soul – pure and simple! \n£5 on the door. \nLook our for our next date: Friday 22nd November. \nContact Simon for further details on: 07970 280037
URL:https://www.johngodbercentre.co.uk/event/byron-northern-soul-club-september/
LOCATION:The John Godber Centre\, Ogle Street\, Hucknall\, Nottingham\, Nottinghamshire\, NG15 7FQ\, United Kingdom
CATEGORIES:Community,Dance,Disco
ATTACH;FMTTYPE=image/jpeg:https://www.johngodbercentre.co.uk/wp-content/uploads/2019/06/byron-soul_960px.jpg
END:VEVENT
END:VCALENDAR