BEGIN:VCALENDAR
VERSION:2.0
PRODID:-//The John Godber Centre - ECPv5.10.0//NONSGML v1.0//EN
CALSCALE:GREGORIAN
METHOD:PUBLISH
X-WR-CALNAME:The John Godber Centre
X-ORIGINAL-URL:https://www.johngodbercentre.co.uk
X-WR-CALDESC:Events for The John Godber Centre
BEGIN:VTIMEZONE
TZID:Europe/London
BEGIN:DAYLIGHT
TZOFFSETFROM:+0000
TZOFFSETTO:+0100
TZNAME:BST
DTSTART:20180325T010000
END:DAYLIGHT
BEGIN:STANDARD
TZOFFSETFROM:+0100
TZOFFSETTO:+0000
TZNAME:GMT
DTSTART:20181028T010000
END:STANDARD
END:VTIMEZONE
BEGIN:VEVENT
DTSTART;TZID=Europe/London:20180406T090000
DTEND;TZID=Europe/London:20180406T120000
DTSTAMP:20260422T022909
CREATED:20180316T130828Z
LAST-MODIFIED:20180316T180342Z
UID:1865-1523005200-1523016000@www.johngodbercentre.co.uk
SUMMARY:April Jumble Sale 2018
DESCRIPTION:Come along to our Jumble Sale which is held on the first Friday of each month. \nA busy community event\, all money raised goes to support the church and the John Godber Centre. Over 60 volunteers help run this event and new helpers are always welcome. \nThis month’s Jumble Sale is set to be bigger than ever after March’s event was cancelled due to the snow and bad weather that came with ‘the beast from the east’! \nWe hope to see you there.
URL:https://www.johngodbercentre.co.uk/event/april-jumble-sale-2018/
LOCATION:The John Godber Centre\, Ogle Street\, Hucknall\, Nottingham\, Nottinghamshire\, NG15 7FQ\, United Kingdom
CATEGORIES:Community,Families
ATTACH;FMTTYPE=image/jpeg:https://www.johngodbercentre.co.uk/wp-content/uploads/2018/03/jumble_sale_event_header_large.jpg
ORGANIZER;CN="Margaret%20Hosking":MAILTO:margaretrose142@gmail.com
END:VEVENT
END:VCALENDAR