BEGIN:VCALENDAR
VERSION:2.0
PRODID:-//The John Godber Centre - ECPv5.10.0//NONSGML v1.0//EN
CALSCALE:GREGORIAN
METHOD:PUBLISH
X-WR-CALNAME:The John Godber Centre
X-ORIGINAL-URL:https://www.johngodbercentre.co.uk
X-WR-CALDESC:Events for The John Godber Centre
BEGIN:VTIMEZONE
TZID:Europe/London
BEGIN:DAYLIGHT
TZOFFSETFROM:+0000
TZOFFSETTO:+0100
TZNAME:BST
DTSTART:20240331T010000
END:DAYLIGHT
BEGIN:STANDARD
TZOFFSETFROM:+0100
TZOFFSETTO:+0000
TZNAME:GMT
DTSTART:20241027T010000
END:STANDARD
END:VTIMEZONE
BEGIN:VEVENT
DTSTART;VALUE=DATE:20241017
DTEND;VALUE=DATE:20241020
DTSTAMP:20260422T022932
CREATED:20240801T115407Z
LAST-MODIFIED:20240801T115407Z
UID:3692-1729123200-1729382399@www.johngodbercentre.co.uk
SUMMARY:Allo Allo - Lovelace Theatre Group
DESCRIPTION:The Lovelace Theatre Group present Allo Allo this October\nPerformances are on the 17th\, 18th and 19th October at 7.30pm\nTickets are £9 each or £8 for concessions and will be on sale from 8am on the 16th August by calling the box office on 0115 968 1011 or emailing info@lovelacetheatregroup.co.uk \nWord from the Directors =\nLaura Short:  ‘Listen very carefully. I shall say this only once! I’m so excited to be making my directing debut with Allo Allo. Like a lot of people\, I grew up watching the TV show and repeating the catchphrases- it never fails to make me laugh. I can’t wait to bring this to the John Godber Centre stage and I know our wonderful cast will do justice to all of the iconic characters. You’re all in for a treat!’  \nLinda Mayes: ‘I’m really looking forward to bringing this comedy to the stage for you all to enjoy. “Allo Allo” is a  trip down memory lane which wouldn’t be complete without  a visit to René’s cafe.’ \nFollow the groups social media pages for regular updates on Facebook or Instagram
URL:https://www.johngodbercentre.co.uk/event/allo-allo-lovelace-theatre-group/
LOCATION:The John Godber Centre\, Ogle Street\, Hucknall\, Nottingham\, Nottinghamshire\, NG15 7FQ\, United Kingdom
CATEGORIES:Live entertainment,Theatre
ATTACH;FMTTYPE=image/jpeg:https://www.johngodbercentre.co.uk/wp-content/uploads/2024/08/Allo.jpg
ORGANIZER;CN="Lovelace%20Theatre%20Group":MAILTO:president@lovelacetheatregroup.co.uk
END:VEVENT
END:VCALENDAR