BEGIN:VCALENDAR
VERSION:2.0
PRODID:-//The John Godber Centre - ECPv5.10.0//NONSGML v1.0//EN
CALSCALE:GREGORIAN
METHOD:PUBLISH
X-WR-CALNAME:The John Godber Centre
X-ORIGINAL-URL:https://www.johngodbercentre.co.uk
X-WR-CALDESC:Events for The John Godber Centre
BEGIN:VTIMEZONE
TZID:Europe/London
BEGIN:DAYLIGHT
TZOFFSETFROM:+0000
TZOFFSETTO:+0100
TZNAME:BST
DTSTART:20200329T010000
END:DAYLIGHT
BEGIN:STANDARD
TZOFFSETFROM:+0100
TZOFFSETTO:+0000
TZNAME:GMT
DTSTART:20201025T010000
END:STANDARD
END:VTIMEZONE
BEGIN:VEVENT
DTSTART;TZID=Europe/London:20200117T193000
DTEND;TZID=Europe/London:20200117T213000
DTSTAMP:20260423T060051
CREATED:20200104T163258Z
LAST-MODIFIED:20200104T163258Z
UID:2698-1579289400-1579296600@www.johngodbercentre.co.uk
SUMMARY:Alice in Wonderland Panto - Performance 2
DESCRIPTION:Join Lovelace Theatre Group for their 2020 panto – Alice in Wonderland\, as Alice goes down the rabbit hole in search of adventure. \nWonderland is in danger from the evil Knave of Spades\, and can only be saved by a magical golden heart\, supplied by the Wizard of Muddleup Wood. \nAdults £7.00\, concessions £6.00 \nTickets on sale from the 5th December. Available from the John Godber Centre or via the Seaty link below…
URL:https://www.johngodbercentre.co.uk/event/alice-in-wonderland-panto-performance-2/
LOCATION:The John Godber Centre\, Ogle Street\, Hucknall\, Nottingham\, Nottinghamshire\, NG15 7FQ\, United Kingdom
CATEGORIES:Children,Comedy,Community,Families,Pantomime,Theatre
ATTACH;FMTTYPE=image/jpeg:https://www.johngodbercentre.co.uk/wp-content/uploads/2020/01/alice_in_wonderland_panto_2020.jpg
ORGANIZER;CN="Lovelace%20Theatre%20Group":MAILTO:president@lovelacetheatregroup.co.uk
END:VEVENT
END:VCALENDAR